{"text_format":"1","workbook":"xlsx","n_sheets":5,"sheets":["Apresentação","Resumo","Resumo NT","Custos","Mercado"],"not_rendered":{"charts":0,"images":2,"macros":1,"external_links":11,"defined_names":161,"comments":4,"pivot_tables":0},"unopened":[],"bounds":{"document_bytes":16777216,"sheet_cells":100000,"rows_first":2000,"rows_last":500,"rows_between":2000,"halvings":0,"cell_chars":16384,"cell_head_chars":4096},"cells_cut":0,"cells_raw":0,"read":"whole","date_system":"1900"}

{"sheet":"Apresentação","index":0,"n_rows":28,"n_cols":9,"rows_kept":28,"cut":false,"hidden":false,"merged":[[18,0,19,2],[16,0,17,2],[20,0,21,2],[22,0,23,2],[7,0,7,6],[8,0,9,6],[11,0,13,2],[14,0,15,2],[10,0,10,2],[10,3,10,6],[7,8,7,13],[8,8,8,13],[10,8,10,11],[16,8,16,11],[4,0,4,6]]}
["ARSAE-MG"]
["Cálculo do Fator de Produtividade - Nota Técnica CRE 11/2020"]
["Data: 24/11/2020"]
[]
["Nesta planilha foram realizados os cálculos do Fator de Produtividade"]
["Todos os valores estão a preços de dez/2012"]
[]
["Aba \"Resumo\"",null,null,null,null,null,null,null,"Aba \"Resumo NT\""]
["Foram realizados os cálculos para os Períodos de Referência entre 2017 e 2020, sobre:",null,null,null,null,null,null,null,"Esta aba serviu como base das imagens que foram para a NT"]
[]
["O que:",null,null,"Fórmula utilizada:",null,null,null,null,"Aba \"Custos\""]
["Variação do Produto",null,null,"Variação do Mercado de água * Peso água + ",null,null,null,null,"Nesta aba constam as somas anuais dos "]
[null,null,null,"Variação do Mercado de EDT * Peso EDT + ",null,null,null,null,"Custos  no período de Agosto a Julho"]
[null,null,null,"Variação do Mercado EDC * Peso EDC",null,null,null,null,"a preços de dezembro de 2012."]
["Variação do Mercado de Água",null,null,"LN do Mercado de Água posterior - "]
[null,null,null,"LN do Mercado de Água do período inicial"]
["Variação do Mercado de EDT ",null,null,"LN do Mercado de EDT posterior - ",null,null,null,null,"Aba \"Mercado\""]
[null,null,null,"LN do Mercado de EDT do período inicial",null,null,null,null,"Apresenta volume faturados e economias "]
["Variação do Mercado de EDC",null,null,"LN do Mercado de EDC posterior - ",null,null,null,null,"de água, EDC e EDT."]
[null,null,null,"LN do Mercado de EDC do período inicial"]
["Variação dos Custos Totais",null,null,"LN do Custo Total posterior - "]
[null,null,null,"LN do Custo Toral do período inicial"]
["Índice de Tornqvist",null,null,"1 + Variação dos Custos Totais - "]
[null,null,null,"Variação do Produto"]
["EDC = esgoto dinâmico coletado"]
["EDT = esgoto dinâmico coletado e tratado"]
["Obs. 1: o \"mercado EDC\" considera a soma EDC + EDT, pois todo esgoto tratado também foi coletado."]
["Obs. 2: o \"peso EDT\" se refere aos custos da etapa de tratamento de esgoto apenas, ou seja, não inclui os custos da coleta do esgoto que é tratado, os quais estão no \"peso EDC\". "]

{"sheet":"Resumo","index":1,"n_rows":30,"n_cols":16,"rows_kept":30,"cut":false,"hidden":false,"merged":[[27,1,27,4],[3,10,4,12],[15,13,15,15],[21,1,21,3],[15,5,15,7],[15,1,15,3],[15,9,15,11]]}
["ARSAE-MG"]
["Cálculo do Fator de Produtividade - Nota Técnica CRE 11/2020"]
["Resumo dos resultados"]
[null,null,null,null,null,null,null,null,null,null,"O cálculo dos pesos foi demonstrado na planilha \"Criterios_calculo_custos_por_servico\""]
[]
[null,"Empresa","Período","Custos Operacionais","Custo de Capital","Custo Total","Mercado água","Mercado EDC","Mercado EDT","Economias","Peso água","Peso EDC (coleta de esgoto)","Peso EDT (tratamento de esgoto)"]
[null,"Copasa","PR2016/17",{"$f":"Custos!H25+Custos!H29+Custos!H30+Custos!H36-Custos!H38","v":1824535013.4536266},{"$f":"Custos!H35","v":1402809518.7199388},{"$f":"D7+E7","v":3227344532.1735654},{"$f":"Mercado!M8","v":583350158.23000002},{"$f":"Mercado!Q8","v":396745374.40999997},{"$f":"Mercado!O8","v":297516322.44},{"$f":"Mercado!L8","v":59892175},0.474609375,0.3232421875,0.2021484375]
[null,"Copasa","PR2017/18",{"$f":"Custos!I25+Custos!I29+Custos!I30+Custos!I36-Custos!I38","v":1982622242.1740041},{"$f":"Custos!I35","v":1437578348.0437179},{"$f":"D8+E8","v":3420200590.2177219},{"$f":"Mercado!M9","v":584698102.8499999},{"$f":"Mercado!Q9","v":399599019.01999998},{"$f":"Mercado!O9","v":298193048.97000003},{"$f":"Mercado!L9","v":60852188},0.474609375,0.3232421875,0.2021484375]
[null,"Copasa","PR2018/19",{"$f":"Custos!J25+Custos!J29+Custos!J30+Custos!J36-Custos!J38","v":2042795819.4303012},{"$f":"Custos!J35","v":1406938424.5728185},{"$f":"D9+E9","v":3449734244.0031195},{"$f":"Mercado!M10","v":584065299.69999981},{"$f":"Mercado!Q10","v":405969533.05999994},{"$f":"Mercado!O10","v":306649540.66999996},{"$f":"Mercado!L10","v":61634188},0.474609375,0.3232421875,0.2021484375]
[null,"Copasa","PR2019/20",{"$f":"Custos!K25+Custos!K29+Custos!K30+Custos!K36-Custos!K38","v":2073938468.59885},{"$f":"Custos!K35","v":1358838648.8812215},{"$f":"D10+E10","v":3432777117.4800715},{"$f":"Mercado!M11","v":597119215.40333319},{"$f":"Mercado!Q11","v":416496145.11000001},{"$f":"Mercado!O11","v":326106625.63666672},{"$f":"Mercado!L11","v":62559724.666666664},0.474609375,0.3232421875,0.2021484375]
[null,"Obs. 1: o \"mercado EDC\" considera a soma EDC + EDT, pois todo esgoto tratado também foi coletado."]
[null,"Obs. 2: o \"peso EDT\" se refere aos custos da etapa de tratamento de esgoto apenas, ou seja, não inclui os custos da coleta do esgoto que é tratado, os quais estão no \"peso EDC\". "]
[]
[]
[]
[null,"Variação do Produto",null,null,null,"Variação do Mercado Água",null,null,null,"Variação do Mercado EDT",null,null,null,"Variação do Mercado EDC"]
[null,"PR2017/PR2018","PR2018/PR2019","PR2019/PR2020",null,"PR2017/PR2018","PR2018/PR2019","PR2019/PR2020",null,"PR2017/PR2018","PR2018/PR2019","PR2019/PR2020",null,"PR2017/PR2018","PR2018/PR2019","PR2019/PR2020"]
[null,{"$f":"F18*K7+J18*M7+N18*L7","v":3.8713361898879729E-3},{"$f":"G18*K7+K18*M7+O18*L7","v":1.0251600609633638E-2},{"$f":"H18*K7+L18*M7+P18*L7","v":3.1201411235491073E-2},null,{"$f":"LN(G8)-LN(G7)","v":2.3080300074731497E-3},{"$f":"LN(G9) - LN(G8)","v":-1.0828593887417526E-3},{"$f":"LN(G10) - LN(G9)","v":2.2103993117664089E-2},null,{"$f":"LN(I8)-LN(I7)","v":2.272003274025991E-3},{"$f":"LN(I9) - LN(I8)","v":2.7964442075045781E-2},{"$f":"LN(I10)-LN(I9)","v":6.1518866221025092E-2},null,{"$f":"LN(H8)-LN(H7)","v":7.1668912298790133E-3},{"$f":"LN(H9) - LN(H8)","v":1.581652319534399E-2},{"$f":"LN(H10)-LN(H9)","v":2.5599091064066215E-2}]
[]
[]
[]
[null,"Variação dos Custos Totais"]
[null,"PR2017/PR2018","PR2018/PR2019","PR2019/PR2020"]
[null,{"$f":"LN(F8)-LN(F7)","v":5.8039528623613279E-2},{"$f":"LN(F9)-LN(F8)","v":8.5979958875235241E-3},{"$f":"LN(F10)-LN(F9)","v":-4.9276085266534153E-3}]
[]
[]
[]
[null,"Índice de Tornqvist"]
[null,"PR2017/PR2018","PR2018/PR2019","PR2019/PR2020","Média Geométrica"]
[null,{"$f":"1-B24+B18","v":0.94583180756627472},{"$f":"1-C24+C18","v":1.0016536047221101},{"$f":"1-D24+D18","v":1.0361290197621444},{"$f":"GEOMEAN(B30:D30)-1","v":-6.1631319894471792E-3}]

{"sheet":"Resumo NT","index":2,"n_rows":36,"n_cols":6,"rows_kept":36,"cut":false,"hidden":false,"merged":[[16,2,16,5]]}
["ARSAE-MG"]
["Cálculo do Fator de Produtividade - Nota Técnica CRE 11/2020"]
["Tabela apresentada na nota técnica"]
[]
[null,"Tabela 4 - Evolução Histórica dos Custos e Mercado do Setor de Abastecimento de Água, Coleta e Tratamento de Esgoto"]
[null,null,"PR 17/18","PR 18/19","PR 19/20","Média Geométrica"]
[null,"Mercado Água",{"$f":"Resumo!F18","v":2.3080300074731497E-3},{"$f":"Resumo!G18","v":-1.0828593887417526E-3},{"$f":"Resumo!H18","v":2.2103993117664089E-2},{"$f":"F29","v":7.7247382312997104E-3}]
[null,"Mercado EDC",{"$f":"Resumo!N18","v":7.1668912298790133E-3},{"$f":"Resumo!O18","v":1.581652319534399E-2},{"$f":"Resumo!P18","v":2.5599091064066215E-2},1.6166282014433486E-2]
[null,"Mercado EDT",{"$f":"Resumo!J18","v":2.272003274025991E-3},{"$f":"Resumo!K18","v":2.7964442075045781E-2},{"$f":"Resumo!L18","v":6.1518866221025092E-2},3.0300244682015087E-2]
[null,"Mercado Total",{"$f":"Resumo!B18","v":3.8713361898879729E-3},{"$f":"Resumo!C18","v":1.0251600609633638E-2},{"$f":"Resumo!D18","v":3.1201411235491073E-2},1.5041269011765834E-2]
[null,"Custos Operacionais*",{"$f":"LN(Resumo!D8)-LN(Resumo!D7)","v":8.3095165821337247E-2},{"$f":"LN(Resumo!D9)-LN(Resumo!D8)","v":2.9899036055958561E-2},{"$f":"LN(Resumo!D10)-LN(Resumo!D9)","v":1.513007208281536E-2},4.2303799395044139E-2]
[null,"Custos de Capital**",{"$f":"LN(Resumo!E8)-LN(Resumo!E7)","v":2.4482970415562022E-2},{"$f":"LN(Resumo!E9)-LN(Resumo!E8)","v":-2.1543981646310328E-2},{"$f":"LN(Resumo!E10)-LN(Resumo!E9)","v":-3.4785613252847014E-2},-1.0938539247086432E-2]
[null,"Custos Totais ",{"$f":"Resumo!B24","v":5.8039528623613279E-2},{"$f":"Resumo!C24","v":8.5979958875235241E-3},{"$f":"Resumo!D24","v":-4.9276085266534153E-3},2.0214653333085586E-2]
[null,"Índice de Tornqvist",{"$f":"C10-C13","v":-5.416819243372531E-2},{"$f":"D10-D13","v":1.6536047221101143E-3},{"$f":"E10-E13","v":3.6129019762144485E-2},-6.1631319894471792E-3]
[]
[]
[null,null,"Índice de Tornqvist"]
[null,null,"PR2017/PR2018","PR2018/PR2019","PR2019/PR2020","Média Geométrica"]
[null,null,{"$f":"C14","v":-5.416819243372531E-2},{"$f":"D14","v":1.6536047221101143E-3},{"$f":"E14","v":3.6129019762144485E-2},{"$f":"GEOMEAN(C20:E20)-1","v":-6.1631319894471792E-3}]
[null,null,{"$f":"C19+1","v":0.94583180756627472},{"$f":"D19+1","v":1.0016536047221101},1.0361290197621444]
[]
[]
[]
[]
[]
[]
[]
[null,null,"17/18","18/19","19/20","Média"]
[null,"Mercado Água",{"$f":"1+C7","v":1.0023080300074731},0.99891714061125825,1.0221039931176641,{"$f":"GEOMEAN(C29:E29)-1","v":7.7247382312997104E-3}]
[null,"Mercado EDC",1.007166891229879,1.015816523195344,1.0255990910640662,{"$f":"GEOMEAN(C30:E30)-1","v":1.6166282014433486E-2}]
[null,"Mercado EDT",1.002272003274026,1.0279644420750458,1.0615188662210251,3.0300244682015087E-2]
[null,"Mercado Total",1.0038713361898879,1.0102516006096336,1.031201411235491,1.5041269011765834E-2]
[null,"Custos Operacionais*",1.0830951658213372,1.0298990360559586,1.0151300720828154,4.2303799395044139E-2]
[null,"Custos de Capital**",{"$f":"1+C12","v":1.024482970415562},{"$f":"1+D12","v":0.97845601835368967},0.96521438674715299,-1.0938539247086432E-2]
[null,"Custos Totais ",{"$f":"1+C13","v":1.0580395286236133},{"$f":"1+D13","v":1.0085979958875235},{"$f":"1+E13","v":0.99507239147334658},2.0214653333085586E-2]
[null,"Mercado - Custos",{"$f":"1+C14","v":0.94583180756627472},{"$f":"1+D14","v":1.0016536047221101},{"$f":"1+E14","v":1.0361290197621444},{"$f":"GEOMEAN(C36:E36)-1","v":-6.1631319894471792E-3}]

{"sheet":"Custos","index":3,"n_rows":73,"n_cols":14,"rows_kept":73,"cut":false,"hidden":false,"merged":[[49,10,50,16],[5,7,5,10],[5,11,6,11],[5,12,6,12],[5,3,5,6],[6,4,6,5],[7,4,24,4],[25,4,28,4],[30,4,34,4]]}
["ARSAE-MG"]
["Cálculo do Fator de Produtividade - Nota Técnica CRE 11/2020"]
["Cálculo dos custos"]
[]
[]
[null,null,null,"Classificação regulatória",null,null,null,"Período de Referência",null,null,null,"Critério/método de cálculo que será utilizado","Simplificação adotada no cálculo prévio apresentado na NT 11, que foi utilizado apenas para ilustrar a aplicação da metodologia do FP"]
[null,null,null,null,"Grupo",null,"Subgrupo","ago16-jul17","ago17-jul18","ago18-jul19","ago19-jul20"]
[null,null,null,null,"Custos Operacionais (1)",null,"Aluguel"]
[null,null,null,null,null,null,"Atendimento Telefônico"]
[null,null,null,null,null,null,"Autosserviços de Água e Esgoto"]
[null,null,null,null,null,null,"Combustíveis e Lubrificantes"]
[null,null,null,null,null,null,"Comercialização"]
[null,null,null,null,null,null,"Comunicação, Publicidade e Propaganda Legal"]
[null,null,null,null,null,null,"Convênios"]
[null,null,null,null,null,null,"Energia Elétrica"]
[null,null,null,null,null,null,"Indenizações"]
[null,null,null,null,null,null,"Manutenção"]
[null,null,null,null,null,null,"Material de Tratamento"]
[null,null,null,null,null,null,"Outros Materiais"]
[null,null,null,null,null,null,"Pessoal"]
[null,null,null,null,null,null,"Serviços de Terceiros"]
[null,null,null,null,null,null,"Telecomunicação"]
[null,null,null,null,null,null,"Treinamento"]
[null,null,null,null,null,null,"Outros Custos Operacionais"]
[null,null,null,null,null,null,"Total de Custos Operacionais",1602438220.0386302,1706419533.9949598,1761961848.5472355,1759061988.8620136,"Valores da contabilidade conforme nova classificação regulatória","Valores da contabilidade conforme classificação regulatória RTP 2017"," "]
[null,null,null,null,"Tributos e Outras Obrigações\n(2)",null,"PIS/Pasep e Cofins",{"$f":"6.48%*H40","v":209131925.68484709},{"$f":"6.97%*I40","v":238387981.13817522},{"$f":"6.97%*J40","v":240446476.80701745},{"$f":"8.26%*K40","v":283547389.90385389},"Percentual efetivo (líquido) verificado na contabilidade em cada PR * RT calculada aqui"," "," "]
[null,null,null,null,null,null,"TFAS",23332307.7644777,24058762.479635857,24832772.859744493,26196805.817314815,"Valores da contabilidade conforme nova classificação regulatória","Valores da contabilidade conforme classificação regulatória RTP 2017"," "]
[null,null,null,null,null,null,"Outros Tributos e Taxas",5862096.3169013802,6442089.4787671342,4995385.1880752081,4756171.9415275604,"Valores da contabilidade conforme nova classificação regulatória","Valores da contabilidade conforme classificação regulatória RTP 2017"," "]
[null,null,null,null,null,null,"Total de Tributos e Outras Obrigações",{"$f":"SUM(H26:H28)","v":238326329.76622617},{"$f":"SUM(I26:I28)","v":268888833.09657824},{"$f":"SUM(J26:J28)","v":270274634.85483712},{"$f":"SUM(K26:K28)","v":314500367.66269624},null,null," "]
[null,null,5.0000000000000001E-3,null,"Programas Especiais (3) ",null,"Proteção de Mananciais",{"$f":"$C$30*H40","v":16136722.660867829},{"$f":"$C$30*I40","v":17101002.951088611},17248671.2200156,17163885.587400358,"0,5% * RT calculada aqui",null," "]
[null,null,null,null,"Custos de Capital\n(4)",null,"Amortização/depreciação",560892641.69803798,571718442.85035086,548694047.82690454,523114317.15716803,"Depreciação da BAR nos 12 meses seguintes ao mês de referência da BAR, considerando tabela de vidas úteis definida na NT CRE 10/2020","No momento dos cálculos prévios houve um problema com a base de dados do primeiro PR e foi utilizada a depreciação média para o PR 2016/17, apenas para fins dos cálculos ilustrativos apresentados na NT 11"," "]
[null,null,null,null,null,null,"Tributos sobre o lucro",{"$f":"H60","v":180432342.41108471},{"$f":"I60","v":210697708.9484196},217571973.88725591,192890812.69294751,"Cálculo circular conforme demonstrado nesta planilha"," "," "]
[null,null,7.9399999999999998E-2,null,null,null,"Remuneração da base de ativos",{"$f":"$C$33*H72","v":658768272.35875762},{"$f":"$C$33*I72","v":652446556.97631443},637823750.30932987,639699050.24513483,"WACC que for definido nesta RTP * Valor residual da BAR em dezembro de cada ano","WACC da RTP 2017 * Valor residual da BAR em dezembro de cada ano"," "]
[null,null,null,null,null,null,"Remuneração da NCG",{"$f":"$C$33*1.06%*H40","v":2716262.2520585596},{"$f":"$C$33*1%*I40","v":2715639.2686328711},{"$f":"$C$33*1.04%*J40","v":2848652.5493280161},{"$f":"$C$33*1.15%*K40","v":3134468.7859710529},"Quanto o estoque de materiais de consumo representou (%) sobre a receita tarifária em cada PR * WACC * a RT calculada aqui. Ver explicação na NT CRE 10/2020"," "," "]
[null,null,null,null,null,null,"Total de Custos de Capital",{"$f":"SUM(H31:H34)","v":1402809518.7199388},{"$f":"SUM(I31:I34)","v":1437578348.0437179},1406938424.5728185,1358838648.8812215,null,null," "]
[null,null,2.0199999999999999E-2,null,"RI (5)",null,"Receitas Irrecuperáveis",{"$f":"$C$36*H40","v":65192359.54990603},{"$f":"$C$36*I40","v":69088051.922397986},69684631.728863016,69342097.773097441,"Percentual de RI que for definido nesta RTP","Percentual de RI da RTP de 2017 * RT calculada aqui"," "]
[null,null,null,null,"RR",null,"Receita Requerida = (1) + (2) + (3) + (4) + (5)",{"$f":"H25+H29+H30+H35+H36","v":3324903150.7355695},{"$f":"I25+I29+I30+I35+I36","v":3499075770.0087428},3526108210.92377,3518906988.7664294,null,null," "]
[null,"Para circular:",null,null,"OR",null,"Outras Receitas",97558618.562003613,78875179.791020691,76373966.920649976,86129871.286357671,"Valores da contabilidade, conforme nova classificação regulatória, com a regra de reversão que for definida nesta RTP","50% dos valores da contabilidade, conforme classificação regulatória da RTP 2017"," "]
[null,{"$f":"SUM(H39:K39)","v":13530056483.874479},null,null,"RT base",null,"Receita Tarifária necessária = RR - OR",{"$f":"H37-H38","v":3227344532.1735659},{"$f":"I37-I38","v":3420200590.2177219},3449734244.0031199,3432777117.4800715,null,null," "]
[null,{"$f":"SUM(H40:K40)","v":13530056483.874479},null,null,null,null,"Valores para cálculo circular:",3227344532.1735659,3420200590.2177219,3449734244.0031199,3432777117.4800715,null,null," "]
[null,{"$f":"soma_colar_para_macro=soma_resultado_para_macro","v":true},null,null,"Contabilidade"]
[null,null,null,null,"% RT"]
[null,null,null,null,"Cálculo específico"]
[]
[null,null,null,"Todos os valores estão a preços de dez/2012."]
[]
[]
[]
[]
[]
[]
[null,null,null,null,null,null,"Cálculo circular dos tributos sobre o lucro:"]
[null,null,null,null,null,null,"Alíquota tributos sobre o lucro",0.34,0.34,0.34,0.34]
[null,null,{"$f":"soma_tributos_colar_para_macro=soma_tributos_para_macro","v":true},null,{"$f":"SUM(H54:K54)","v":5606164940.2176971},null,"Custos de capital",1402809518.7199388,1437578348.0437179,1406938424.5728185,1358838648.8812215]
[null,null,{"$f":"soma_tributos_colar_para_macro=soma_tributos_para_macro","v":true},null,{"$f":"SUM(H35:K35)","v":5606164940.2176971},null,"Depreciação contábil",436712606.26333302,410442424.34508592,402461746.23403358,422247759.7473861,"Valores da contabilidade conforme nova classificação regulatória"]
[null,null,null,null,null,null,"Encargos de empréstimos",268817966.35531998,212896777.44408634,163672005.37366712,191166311.75553882,"Valores da contabilidade conforme nova classificação regulatória"]
[null,null,{"$f":"Soma_colar_JCP=Soma_JCP_para_macro","v":true},null,{"$f":"SUM(H57:K57)","v":603359795.18390965},"a  ","(-) Distribuição de 29,41% em forma de JCP",135811619.07773122,158592393.17005897,163766659.81669801,145189123.11942145]
[null,null,{"$f":"Soma_colar_JCP=Soma_JCP_para_macro","v":true},null,{"$f":"SUM(H58:K58)","v":136761553.57501951},"b  ","(-) Participação nos Lucros e Resultados ",30783966.99095241,35947609.118546695,37120442.891784884,32909534.573735528]
[null,null,null,null,null,null,"(=) Base de cálculo de IRPJ e CSLL",{"$f":"H54-H55-H56-H57-H58","v":530683360.03260201},{"$f":"I54-I55-I56-I57-I58","v":619699143.96594},639917570.25663495,{"$f":"K54-K55-K56-K57-K58","v":567325919.68513966}]
[null,null,null,null,null,null,"(-) Tributos sobre o lucro (34% * base de cálculo acima)",{"$f":"IF(H59>0,H59*H53,0)","v":180432342.41108471},210697708.9484196,217571973.88725591,192890812.69294751]
[null,null,null,null,null,null,"(+) JCP calculado acima",{"$f":"H57","v":135811619.07773122},158592393.17005897,163766659.81669801,{"$f":"K57","v":145189123.11942145}]
[null,null,null,null,null,null,"(=) Lucro Líquido (Base de cálculo do JCP)",{"$f":"H59-H60+H61","v":486062636.69924855},567593828.18757939,586112256.18607712,{"$f":"K59-K60+K61","v":519624230.11161363}]
[null,null,null,null,null,null,"(+) PLR",{"$f":"H58","v":30783966.99095241},35947609.118546695,37120442.891784884,{"$f":"K58","v":32909534.573735528}]
[null,null,null,null,null,null,"(=) Base de cálculo da PLR",{"$f":"H62+H63","v":516846603.69020098},603541437.30612612,623232699.07786202,{"$f":"K62+K63","v":552533764.68534911}]
[]
[null,null,null,null,null,null,"Cálculo circular (copia os resultados abaixo e cola como valor nas linhas \"a\" e \"b\" acima)"]
[null,null,null,null,{"$f":"SUM(H67:K67)","v":603359795.18390965},null,"(-) Distribuição de 29,41% em forma de JCP",{"$f":"IF(H62>0,(25%/(1-15%))*95%*H62,0)","v":135811619.07773122},{"$f":"IF(I62>0,(25%/(1-15%))*95%*I62,0)","v":158592393.17005897},163766659.81669801,{"$f":"IF(K62>0,(25%/(1-15%))*95%*K62,0)","v":145189123.11942145}]
[null,null,null,null,{"$f":"SUM(H68:K68)","v":136761553.57501951},null,"(-) Participação nos Lucros e Resultados ",{"$f":"IF(H64>0,25%*25%*(H64-IF(H62>0,5%*H62,0)),0)","v":30783966.99095241},{"$f":"IF(I64>0,25%*25%*(I64-IF(I62>0,5%*I62,0)),0)","v":35947609.118546695},37120442.891784884,{"$f":"IF(K64>0,25%*25%*(K64-IF(K62>0,5%*K62,0)),0)","v":32909534.573735528}]
[]
[]
[null,null,null,null,null,null,null,"2016-12-01","2017-12-01","2018-12-01","2019-12-01"]
[null,null,null,null,null,null,"BAR",8296829626.6846046,8217211045.0417442,8033044714.2232981,8056663101.3241167]
[null,null,null,null,null,null,"Fonte: Dados da Copasa. Todos os valores estão a preço de dezembro de 2012, considerando o IPCA."]

{"sheet":"Mercado","index":4,"n_rows":65,"n_cols":17,"rows_kept":65,"cut":false,"hidden":false,"merged":[[5,15,5,16],[5,13,5,14],[5,11,5,12],[4,11,4,16],[4,3,4,4],[4,5,4,6],[4,7,4,8]]}
["ARSAE-MG"]
["Cálculo do Fator de Produtividade - Nota Técnica CRE 11/2020"]
["Dados do mercado de cada serviço"]
[]
[null,null,null,"Total Água",null,"Total EDT",null,"Total EDC",null,null,null,"Atualizada por período Agosto - Julho"]
[null,"Mês","Ano","Economias","Volume faturado","Economias","Volume faturado","Economias","Volume faturado",null,null,"Total Água",null,"Total EDT",null,"Total EDC"]
[null,"JUL",2016,4936387,47263205.569999993,2418511,24175857.600000009,3298449,32188327.050000012,null,null,"Economias","Vol. faturado","Economias","Vol. faturado","Economias","Vol. faturado"]
[null,"AGO",2016,4945065,47340695.639999993,2425479,23902275.25,3305776,31938135.509999998,null,"2016-17",{"$f":"SUM(D8:D12,D14:D20)","v":59892175},583350158.23000002,29602200,297516322.44,40244567,{"$f":"SUM(I8:I12,I14:I20)","v":396745374.40999997}]
[null,"SET",2016,4955737,48616619.270000003,2429387,24556062.54000001,3312527,32844789.020000011,null,"2017-18",{"$f":"SUM(D21:D25,D27:D33)","v":60852188},584698102.8499999,30276782,298193048.97000003,41289598,{"$f":"SUM(I21:I25,I27:I33)","v":399599019.01999998}]
[null,"OUT",2016,4963641,50289826.420000009,2434972,25440830.890000015,3321797,34006762.880000018,null,"2018-19",{"$f":"SUM(D34:D38,D40:D46)","v":61634188},584065299.69999981,31705619,306649540.66999996,42694813,{"$f":"SUM(I34:I38,I40:I46)","v":405969533.05999994}]
[null,"NOV",2016,4972720,49553383.860000014,2440193,25107649.749999996,3329651,33601298.549999997,null,"*2019-20",{"$f":"SUM(D47:D51,D53:D59)","v":62559724.666666664},597119215.40333319,33674559,326106625.63666672,43607831,{"$f":"SUM(I47:I51,I53:I59)","v":416496145.11000001}]
[null,"DEZ",2016,4982292,49497346.020000003,2434103,25136200.049999993,3339840,33748874.86999999,null,"* Dados 2020 constam até junho, com previsão para julho - média dos 3 meses anteriores"]
[null,"TOTAL",2017,29755842,292561076.78000003,14582645,148318876.08000001,19908040,198328187.88000005]
[null,"JAN",2017,4991845,49671465.479999989,2463309,24900681.349999998,3346843,33404946.82]
[null,"FEV",2017,4998162,45982989.839999989,2481710,23374375.81000001,3362441,31187455.030000009]
[null,"MAR",2017,5006335,50839560.889999993,2488834,25954993.329999991,3370379,34571624.699999988]
[null,"ABR",2017,5009878,47956943.509999998,2496910,24848065.059999991,3378837,32863884.289999992]
[null,"MAI",2017,5015488,49960741.520000018,2498265,25679831.280000001,3384538,34112491.189999998]
[null,"JUN",2017,5021358,46545765.630000003,2502497,24248426.610000003,3392082,32097179.190000005]
[null,"JUL",2017,5029654,47094820.149999991,2506541,24366930.520000007,3399856,32367932.360000007]
[null,"AGO",2017,5036791,48530774.43,2515906,24835794.329999994,3409636,33044122.519999996]
[null,"SET",2017,5043072,48817302.299999997,2520129,24917553.090000004,3413234,33176343.780000005]
[null,"OUT",2017,5030412,50656446.249999985,2510970,25625265.890000008,3400758,34218071.300000004]
[null,"NOV",2017,5056797,49697201.56000001,2527328,25355440.73,3429079,33871233.109999999]
[null,"DEZ",2017,5060986,49015317.469999984,2562972,25562583.299999997,3436114,33740070.309999995]
[null,"TOTAL",2017,60300778,584769329.02999997,30075371,299669941.30000001,40723797,398655354.60000002]
[null,"JAN",2018,5068996,49692081.940000013,2542638,25271942.780000005,3444053,33831039.660000011]
[null,"FEV",2018,5077861,47353951.970000014,2534577,24037359.390000004,3453751,32285525.930000003]
[null,"MAR",2018,5085145,49730172.179999977,2515672,25175074.129999992,3444277,33932164.969999991]
[null,"ABR",2018,5088880,48435049.220000006,2496067,24507014.150000002,3435852,33072700.050000004]
[null,"MAI",2018,5100100,48736623.480000012,2506940,24819524.429999992,3469435,33596611.339999989]
[null,"JUN",2018,5103684,48006659.259999983,2517224,24603216.910000004,3473952,33155099.240000006]
[null,"JUL",2018,5099464,46026522.789999999,2526359,23482279.839999992,3479457,31676036.809999995]
[null,"AGO",2018,5106956,46821822.340000004,2531745,23841440.149999991,3486822,32174753.159999989]
[null,"SET",2018,5108681,47003294.509999998,2537663,23904099.939999994,3491717,32242969.299999997]
[null,"OUT",2018,5112005,49613564.039999999,2540401,25066294.390000004,3497801,33918973.230000004]
[null,"NOV",2018,5114899,48733753.879999988,2537983,24820815.030000005,3564273,34064922.930000007]
[null,"DEZ",2018,5127404,47956396.29999999,2583967,24839456.750000004,3564827,33654067.75]
[null,"TOTAL",2018,61194075,578109891.91000009,30371236,294368517.88999999,41806217,397604864.37]
[null,"JAN",2019,5135812,51469188.00999999,2694938,27061361.780000001,3571235,35580523.960000001]
[null,"FEV",2019,5139943,48683355.410000004,2702073,25700322.930000003,3574255,33640026.609999999]
[null,"MAR",2019,5146265,50250726.29999999,2707666,26847411.729999993,3579452,35014145.749999993]
[null,"ABR",2019,5151297,47611385.719999991,2711868,25766122.039999995,3585530,33467868.719999999]
[null,"MAI",2019,5158013,50218874.710000008,2712916,26994308.460000001,3589053,35131689.760000005]
[null,"JUN",2019,5159385,47111391.289999992,2716599,25563355.079999998,3589178,33103457.649999999]
[null,"JUL",2019,5173528,48591547.18999999,2727800,26244552.390000008,3600670,33976134.24000001]
[null,"AGO",2019,5180582,49336715.859999999,2735023,26419125.829999998,3609227,34262681.780000001]
[null,"SET",2019,5184487,50668533.5,2752195,27340240.729999997,3614883,35259782.030000001]
[null,"OUT",2019,5192080,52893920.710000008,2766031,28483382.380000003,3620179,36680845.770000003]
[null,"NOV",2019,5197540,50781731.670000009,2752721,27449060.950000003,3623796,35484954.300000004]
[null,"DEZ",2019,5204910,49604211.009999998,2796839,27321437.979999989,3626785,34775884.359999992]
[null,"TOTAL",2019,62023842,597221581.37999988,32776669,321190682.27999997,43184243,416377994.93000001]
[null,"JAN",2020,5211457,51683783.039999992,2808418,28008496.109999992,3629521,35808429.639999993]
[null,"FEV",2020,5215957,45957697.009999998,2815391,25277360.73,3634567,32160676.159999996]
[null,"MAR",2020,5221861,50351533.789999992,2834781,27888421.219999999,3640437,35306538.149999999]
[null,"ABR",2020,5224341,47077725.969999984,2844520,26088543.629999995,3644015,33016426.959999993]
[null,"MAI",2020,5236063,49820457.599999994,2854695,27386105.81000001,3652394,34747532.280000009]
[null,"JUN",2020,5252734,49982633.039999992,2860655,27464675.340000004,3659918,34803305.450000003]
[null,"JUL",2020,{"$f":"AVERAGE(D56:D58)","v":5237712.666666667},{"$f":"AVERAGE(E56:E58)","v":48960272.203333318},2853290,{"$f":"AVERAGE(G56:G58)","v":26979774.926666666},{"$f":"AVERAGE(H56:H58)","v":3652109},{"$f":"AVERAGE(I56:I58)","v":34189088.230000004}]
[null,"AGO",2020]
[null,"SET",2020]
[null,"OUT",2020]
[null,"NOV",2020]
[null,"DEZ",2020]
[null,"TOTAL",2020,36600125.666666664,343834102.65333325,19871750,189093377.76666668,25512961,240031996.87]